BEGIN:VCALENDAR
VERSION:2.0
PRODID:-//STX France - ECPv6.15.12.2//NONSGML v1.0//EN
CALSCALE:GREGORIAN
METHOD:PUBLISH
X-WR-CALNAME:STX France
X-ORIGINAL-URL:https://www.stx-france.com
X-WR-CALDESC:Évènements pour STX France
REFRESH-INTERVAL;VALUE=DURATION:PT1H
X-Robots-Tag:noindex
X-PUBLISHED-TTL:PT1H
BEGIN:VTIMEZONE
TZID:Europe/Paris
BEGIN:DAYLIGHT
TZOFFSETFROM:+0100
TZOFFSETTO:+0200
TZNAME:CEST
DTSTART:20230326T010000
END:DAYLIGHT
BEGIN:STANDARD
TZOFFSETFROM:+0200
TZOFFSETTO:+0100
TZNAME:CET
DTSTART:20231029T010000
END:STANDARD
BEGIN:DAYLIGHT
TZOFFSETFROM:+0100
TZOFFSETTO:+0200
TZNAME:CEST
DTSTART:20240331T010000
END:DAYLIGHT
BEGIN:STANDARD
TZOFFSETFROM:+0200
TZOFFSETTO:+0100
TZNAME:CET
DTSTART:20241027T010000
END:STANDARD
BEGIN:DAYLIGHT
TZOFFSETFROM:+0100
TZOFFSETTO:+0200
TZNAME:CEST
DTSTART:20250330T010000
END:DAYLIGHT
BEGIN:STANDARD
TZOFFSETFROM:+0200
TZOFFSETTO:+0100
TZNAME:CET
DTSTART:20251026T010000
END:STANDARD
END:VTIMEZONE
BEGIN:VEVENT
DTSTART;TZID=Europe/Paris:20241212T080000
DTEND;TZID=Europe/Paris:20241215T170000
DTSTAMP:20260421T172803
CREATED:20241106T174154Z
LAST-MODIFIED:20241106T174154Z
UID:27797-1733990400-1734282000@www.stx-france.com
SUMMARY:SALON DU CHEVAL - LILLE
DESCRIPTION:
URL:https://www.stx-france.com/evenement/salon-du-cheval-lille/
END:VEVENT
BEGIN:VEVENT
DTSTART;TZID=Europe/Paris:20241206T080000
DTEND;TZID=Europe/Paris:20241208T170000
DTSTAMP:20260421T172803
CREATED:20241106T174123Z
LAST-MODIFIED:20241106T174123Z
UID:27794-1733472000-1733677200@www.stx-france.com
SUMMARY:SALON DU CHEVAL - PARIS
DESCRIPTION:
URL:https://www.stx-france.com/evenement/salon-du-cheval-paris/
END:VEVENT
BEGIN:VEVENT
DTSTART;TZID=Europe/Paris:20241122T080000
DTEND;TZID=Europe/Paris:20241124T170000
DTSTAMP:20260421T172803
CREATED:20241106T174052Z
LAST-MODIFIED:20241106T174052Z
UID:27791-1732262400-1732467600@www.stx-france.com
SUMMARY:EQUISEINE
DESCRIPTION:
URL:https://www.stx-france.com/evenement/equiseine/
END:VEVENT
BEGIN:VEVENT
DTSTART;VALUE=DATE:20241030
DTEND;VALUE=DATE:20241104
DTSTAMP:20260421T172803
CREATED:20241018T101911Z
LAST-MODIFIED:20241018T101911Z
UID:27755-1730246400-1730678399@www.stx-france.com
SUMMARY:EQUITALYON
DESCRIPTION:Retrouvez nous du 30/10/2024 au 03/11/2024 à Equitalyon
URL:https://www.stx-france.com/evenement/equitalyon/
END:VEVENT
END:VCALENDAR